BEGIN:VCALENDAR
VERSION:2.0
PRODID:-//AIA California Calendar - ECPv6.15.11//NONSGML v1.0//EN
CALSCALE:GREGORIAN
METHOD:PUBLISH
X-WR-CALNAME:AIA California Calendar
X-ORIGINAL-URL:https://events.aiacalifornia.org
X-WR-CALDESC:Events for AIA California Calendar
REFRESH-INTERVAL;VALUE=DURATION:PT1H
X-Robots-Tag:noindex
X-PUBLISHED-TTL:PT1H
BEGIN:VTIMEZONE
TZID:UTC
BEGIN:STANDARD
TZOFFSETFROM:+0000
TZOFFSETTO:+0000
TZNAME:UTC
DTSTART:20220101T000000
END:STANDARD
END:VTIMEZONE
BEGIN:VEVENT
DTSTART;TZID=UTC:20231115T120000
DTEND;TZID=UTC:20231115T130000
DTSTAMP:20260424T085057
CREATED:20231108T011650Z
LAST-MODIFIED:20231221T075658Z
UID:94427-1700049600-1700053200@events.aiacalifornia.org
SUMMARY:Credit Cram | AIA 2030 Commitment: How Medium and Small Firms Report and Track Project Data & What Comes Next
DESCRIPTION:Some architects are under the impression that the 2030 Commitment is only for large firms and that reporting is too difficult for small to medium-sized firms. To dispel that myth\, this program will focus on two modest-sized firms that participate in the 2030 Commitment. Browning-Day is a medium-sized\, regional firm in Indianapolis\, Indiana. Feldman Architecture is a small firm in San Francisco and one of the 19 firms that achieved a portfolio-wide reduction of 80% in 2022. Join Daniel Overbey\, AIA\, Director of Sustainability at Browning Day and Ben Welty\, Sustainability Manager at Feldman Architecture\, as they discuss the AIA 2030 Commitment’s Design Data Exchange (DDx) and outline each firm’s lessons learned and best practices for setting project performance targets and subsequent portfolio-wide reporting for the DDx. Moderator:								\n				\n				\n				\n									Keith Hempel\, FAIA | Principal\, Chief Design Officer\, LPA Design Studios								\n				\n				\n				\n					Speakers:				\n				\n				\n						\n					\n			\n						\n				\n									Ben Welty\, AIA | Senior Associate\, Architect\, Sustainability Manager\, Feldman Architecture								\n				\n					\n		\n				\n			\n						\n				\n									Daniel Overbey\, AIA LEED Fellow\, WELL AP | Director of Sustainability and Associate Principal at Browning Day; Assistant Professor at Ball State University								\n				\n					\n		\n					\n		\n				\n				\n									Why it’s important:The AIA 2030 Commitment is a commitment for firms to reduce energy use and carbon emissions. These reductions help better our environment and the planet\, and also help change firm and practice culture to be aware of their impact on the environment and people who live in it. Encouraging small and medium sized firms to sign the commitment can lead to cultural changes and promote the health\, safety and welfare of the environment and the public due to carbon reductions through higher performing buildings. 								\n				\n					\n		\n					\n		\n				\n						\n					\n			\n						\n				\n							\n			\n									Additional Resources\n							\n			\n									Additional Resources\n					Learning Objectives + Browning Day Presentation_Medium and Small Firm 2030 Commitment
URL:https://events.aiacalifornia.org/event/credit-cram-aia-2030-commitment-how-medium-and-small-firms-report-and-track-project-data-what-comes-next/
LOCATION:Virtual
CATEGORIES:Climate Action
ATTACH;FMTTYPE=image/jpeg:https://events.aiacalifornia.org/wp-content/uploads/2023/11/2023-AIACA-Credit-Cram-nlkjklshdkfdf-1.jpg
ORGANIZER;CN="Sarah Vasquez":MAILTO:svasquez@aiacalifornia.org
END:VEVENT
END:VCALENDAR