BEGIN:VCALENDAR
VERSION:2.0
PRODID:-//AIA California Calendar - ECPv6.15.11//NONSGML v1.0//EN
CALSCALE:GREGORIAN
METHOD:PUBLISH
X-WR-CALNAME:AIA California Calendar
X-ORIGINAL-URL:https://events.aiacalifornia.org
X-WR-CALDESC:Events for AIA California Calendar
REFRESH-INTERVAL;VALUE=DURATION:PT1H
X-Robots-Tag:noindex
X-PUBLISHED-TTL:PT1H
BEGIN:VTIMEZONE
TZID:UTC
BEGIN:STANDARD
TZOFFSETFROM:+0000
TZOFFSETTO:+0000
TZNAME:UTC
DTSTART:20230101T000000
END:STANDARD
END:VTIMEZONE
BEGIN:VEVENT
DTSTART;TZID=UTC:20240207T120000
DTEND;TZID=UTC:20240207T130000
DTSTAMP:20260424T115630
CREATED:20240118T084406Z
LAST-MODIFIED:20240510T032059Z
UID:97054-1707307200-1707310800@events.aiacalifornia.org
SUMMARY:Creating an Attractive\, Affordable and Sustainable Ownership Transition Plan
DESCRIPTION:Earn 1 LU for attending live.Â  \nMany firms are actively considering expanding their ownership teams and/or transitioning ownership to a new generation of leaders. They know that offering ownership is essential to ensure the ongoing prosperity of their firms\, to attract and retain highly qualified and ambitious staff\, and to enable current owners to benefit from the value they created through long years of hard work. \nHowever\, challenges abound. Many prospective owners are focused on living a balanced life–of which work is but one element. Some have limited financial resources to invest in purchasing equity in a firm. Others have narrow comfort zones and are leery of the risks that accompany ownership. \nIn this webinar\, transition advisor Michael Strogoff\, FAIA\, and attorney Jennifer Suzuki will discuss lessons learned from their years of experience assisting firms with ownership transitions. Attendees will leave the webinar with a better understanding of how to structure a transition framework that balances the professional\, financial\, and legal concerns of buyers and sellers. \nSpeakers: Michael Strogoff\, FAIA\, and Jennifer Suzuki\, Esq. \nMichael Strogoff\, FAIA\nJennifer Suzuki\, Esq.\n  \n  \n  \n  \n  \n  \n  \n\nAdditional Resources\nFull Presentation_Creating an Attractive\, Affordable & Sustainable Ownership Transition Plan
URL:https://events.aiacalifornia.org/event/creating-an-attractive-affordable-and-sustainable-ownership-transition-plan/
LOCATION:Virtual
CATEGORIES:Practice
ATTACH;FMTTYPE=image/jpeg:https://events.aiacalifornia.org/wp-content/uploads/2024/01/Practice-Webinar-Creating-an-Attractive-Affordable-and-Sustainable-Ownership-Transition-Plan-1200x800-2.jpg
ORGANIZER;CN="Rebekah Aceves":MAILTO:raceves@aiacalifornia.org
END:VEVENT
END:VCALENDAR