BEGIN:VCALENDAR
VERSION:2.0
PRODID:-//AIA California Calendar - ECPv6.15.11//NONSGML v1.0//EN
CALSCALE:GREGORIAN
METHOD:PUBLISH
X-WR-CALNAME:AIA California Calendar
X-ORIGINAL-URL:https://events.aiacalifornia.org
X-WR-CALDESC:Events for AIA California Calendar
REFRESH-INTERVAL;VALUE=DURATION:PT1H
X-Robots-Tag:noindex
X-PUBLISHED-TTL:PT1H
BEGIN:VTIMEZONE
TZID:America/Los_Angeles
BEGIN:DAYLIGHT
TZOFFSETFROM:-0800
TZOFFSETTO:-0700
TZNAME:PDT
DTSTART:20240310T100000
END:DAYLIGHT
BEGIN:STANDARD
TZOFFSETFROM:-0700
TZOFFSETTO:-0800
TZNAME:PST
DTSTART:20241103T090000
END:STANDARD
BEGIN:DAYLIGHT
TZOFFSETFROM:-0800
TZOFFSETTO:-0700
TZNAME:PDT
DTSTART:20250309T100000
END:DAYLIGHT
BEGIN:STANDARD
TZOFFSETFROM:-0700
TZOFFSETTO:-0800
TZNAME:PST
DTSTART:20251102T090000
END:STANDARD
BEGIN:DAYLIGHT
TZOFFSETFROM:-0800
TZOFFSETTO:-0700
TZNAME:PDT
DTSTART:20260308T100000
END:DAYLIGHT
BEGIN:STANDARD
TZOFFSETFROM:-0700
TZOFFSETTO:-0800
TZNAME:PST
DTSTART:20261101T090000
END:STANDARD
END:VTIMEZONE
BEGIN:VEVENT
DTSTART;TZID=America/Los_Angeles:20251029T120000
DTEND;TZID=America/Los_Angeles:20251029T130000
DTSTAMP:20260424T064746
CREATED:20251008T162319Z
LAST-MODIFIED:20251105T233710Z
UID:144117-1761739200-1761742800@events.aiacalifornia.org
SUMMARY:Contractual Duty to Defend: Are You Managing Your Risk?
DESCRIPTION:Registration for this webinar will close at 10am PT on Wednesday\, October 29\, 2025. Registrants will receive their Zoom link no later than 10:30am PT the day of.  \nThis 60-minute program will provide a primer on contractual defense and indemnity and explains how the contractual liability exclusion in a professional liability policy can create an uninsured exposure for design firms. In this program we will examine a variety of contractual indemnity clauses since the 2018 amendments to Civil Code section 2782.8\, placing an emphasis on the competing theories governing the duty to defend in design professional contracts. The final portion of this program will focus on AIA California’s new “Duty to Defend” memo\, providing members an outline to support negotiation and risk management efforts in avoiding or mitigating the impacts of an uninsurable defense obligation. \nThis session qualifies for 1 LU (live webinar attendees only). \nSpeakers:\nLaura Knauss\, AIA | President\, Lionakis \nBrett Stewart\, Esq. | Manager\, Loss Prevention and Education\, Design Professional\, AXA XL\, a division of AXA \nDavid Barker\, Esq. | Attorney at Law\, Collins + Collins LLP
URL:https://events.aiacalifornia.org/event/contractual-duty-to-defend-are-you-managing-your-risk/
LOCATION:Virtual
CATEGORIES:Practice
ATTACH;FMTTYPE=image/jpeg:https://events.aiacalifornia.org/wp-content/uploads/2025/10/Duty-to-Defend-1200x800-1.jpg
ORGANIZER;CN="Sarah Vasquez":MAILTO:svasquez@aiacalifornia.org
END:VEVENT
END:VCALENDAR