BEGIN:VCALENDAR
VERSION:2.0
PRODID:-//AIA California Calendar - ECPv6.15.11//NONSGML v1.0//EN
CALSCALE:GREGORIAN
METHOD:PUBLISH
X-WR-CALNAME:AIA California Calendar
X-ORIGINAL-URL:https://events.aiacalifornia.org
X-WR-CALDESC:Events for AIA California Calendar
REFRESH-INTERVAL;VALUE=DURATION:PT1H
X-Robots-Tag:noindex
X-PUBLISHED-TTL:PT1H
BEGIN:VTIMEZONE
TZID:UTC
BEGIN:STANDARD
TZOFFSETFROM:+0000
TZOFFSETTO:+0000
TZNAME:UTC
DTSTART:20220101T000000
END:STANDARD
END:VTIMEZONE
BEGIN:VEVENT
DTSTART;TZID=UTC:20231116T120000
DTEND;TZID=UTC:20231116T130000
DTSTAMP:20260424T101408
CREATED:20231024T024429Z
LAST-MODIFIED:20240123T040959Z
UID:93660-1700136000-1700139600@events.aiacalifornia.org
SUMMARY:Code Breaker: Solar\, Battery & Zero Net Carbon Design ”” 2022 Energy Code
DESCRIPTION:Solar and battery requirements have evolved over the past decade in the California energy code. We will cover 2022 code requirements for all occupancies of buildings at a high level in a short 1-hour introduction to solar and battery for Single-Family\, Multifamily\, and Nonresidential buildings. We will use examples to illustrate how much is required\, exceptions\, and Zero Net Carbon Design concepts and give previews of longer Energy Code Ace offerings on renewable energy. *This will be the final session in the Climate Action Track for Credit Cram 2023 Why it’s important: Be compliant\, stay updated with the 2022 Energy Code. Specifically in this course\, architects and design professionals will learn the new solar and battery requirements for all occupancies and how they can support ZNCD. 								\n				\n					\n		\n					\n		\n				\n						\n					\n			\n						\n				\n							\n			\n									Additional Resources\n							\n			\n									Additional Resources\n					Presentation_Code Breaker Solar\, Battery ZNCD 2 Learning Objectives Slide Deck_11.16.23 ECA ZNCD 2
URL:https://events.aiacalifornia.org/event/code-breaker-solar-battery-zero-net-carbon-design-2022-energy-code/
LOCATION:Virtual
CATEGORIES:Climate Action
ATTACH;FMTTYPE=image/jpeg:https://events.aiacalifornia.org/wp-content/uploads/2023/10/2023-Climate-Action-Webinar-Code-Breaker-Solar-Battery-Zero-1200x800-2.jpg
ORGANIZER;CN="Sarah Vasquez":MAILTO:svasquez@aiacalifornia.org
END:VEVENT
END:VCALENDAR