BEGIN:VCALENDAR
VERSION:2.0
PRODID:-//AIA California Calendar - ECPv6.15.11//NONSGML v1.0//EN
CALSCALE:GREGORIAN
METHOD:PUBLISH
X-WR-CALNAME:AIA California Calendar
X-ORIGINAL-URL:https://events.aiacalifornia.org
X-WR-CALDESC:Events for AIA California Calendar
REFRESH-INTERVAL;VALUE=DURATION:PT1H
X-Robots-Tag:noindex
X-PUBLISHED-TTL:PT1H
BEGIN:VTIMEZONE
TZID:UTC
BEGIN:STANDARD
TZOFFSETFROM:+0000
TZOFFSETTO:+0000
TZNAME:UTC
DTSTART:20220101T000000
END:STANDARD
END:VTIMEZONE
BEGIN:VEVENT
DTSTART;TZID=UTC:20231113T120000
DTEND;TZID=UTC:20231113T130000
DTSTAMP:20260424T083401
CREATED:20230920T044637Z
LAST-MODIFIED:20231221T074251Z
UID:92622-1699876800-1699880400@events.aiacalifornia.org
SUMMARY:Code Breaker: Single-family All Electric & Zero Net Carbon Design ”” 2022 Energy Code
DESCRIPTION:The 2022 Energy Code marks significant changes for Residential occupancies\, including new Mandatory and Prescriptive measures that pave the way for future single-family all-electric residences and zero net carbon design (ZNCD). Join us for this one-hour presentation where we review the all-electric preparation requirements of the Energy Code (Title 24\, Part 6\, the California Building Energy Efficiency Standards)\, associated solar photovoltaic (PV) exemptions\, requirements for heat pump space heating and domestic hot water\, and battery-ready electrical panel configuration\, as well as how all-electric homes relate to ZNCD.\n\n*This will be the first session in the Climate Action Track for Credit Cram 2023\n\nWhy it’s important:\n\nThe 2022 Energy Code marks significant changes for Residential occupancies\, including new Mandatory and Prescriptive measures that pave the way for future single-family all-electric residences and zero net carbon design (ZNCD). Take this session to understand a number of these new requirements and how they support zero net carbon design.\n\nGina Rodda								\n				\n					\n		\n					\n		\n				\n						\n					\n			\n						\n				\n							\n			\n									Additional Resources\n							\n			\n									Additional Resources\n					Presentation_Code Breaker_Single-Family All-Electric Learning Objectives Slidedeck_11.13.23 ECA ZNCD 1
URL:https://events.aiacalifornia.org/event/code-breaker-single-family-all-electric-zero-net-carbon-design-2022-energy-code/
LOCATION:Virtual
CATEGORIES:Climate Action
ATTACH;FMTTYPE=image/jpeg:https://events.aiacalifornia.org/wp-content/uploads/2023/09/2023-Climate-Action-Webinar-Code-Breaker-Single-family-All-Electric-Zero-Net-Carbon-Design-1200x800-1.jpg
ORGANIZER;CN="Sarah Vasquez":MAILTO:svasquez@aiacalifornia.org
END:VEVENT
END:VCALENDAR