BEGIN:VCALENDAR
VERSION:2.0
PRODID:-//AIA California Calendar - ECPv6.15.11//NONSGML v1.0//EN
CALSCALE:GREGORIAN
METHOD:PUBLISH
X-WR-CALNAME:AIA California Calendar
X-ORIGINAL-URL:https://events.aiacalifornia.org
X-WR-CALDESC:Events for AIA California Calendar
REFRESH-INTERVAL;VALUE=DURATION:PT1H
X-Robots-Tag:noindex
X-PUBLISHED-TTL:PT1H
BEGIN:VTIMEZONE
TZID:UTC
BEGIN:STANDARD
TZOFFSETFROM:+0000
TZOFFSETTO:+0000
TZNAME:UTC
DTSTART:20210101T000000
END:STANDARD
END:VTIMEZONE
BEGIN:VEVENT
DTSTART;TZID=UTC:20220818T000000
DTEND;TZID=UTC:20220818T000000
DTSTAMP:20260424T131907
CREATED:20220707T060309Z
LAST-MODIFIED:20231026T015413Z
UID:65704-1660780800-1660780800@events.aiacalifornia.org
SUMMARY:Climate Action Webinar : Title 24 Interface to The 2030 Commitment - Zero Net Carbon Designed ADUs and Residential Projects
DESCRIPTION:Date: Thursday\, August 18th   Time: 12:00 pm – 1:30 pm PST Units: 1.5 LU/HSW Qualifies for Zero Net Carbon Design Mandatory Continuing Education. Certificate of completion will be provided to those who stay on and watch the webinar live. All-electric homes are becoming more and more common in California. Accessory Dwelling Units (ADUs) are also becoming a common way to house people in California. Establishing the owner’s project requirements and associated performance targets and metrics allows comparative evaluation of different design strategies and options. It also generates the data used in reporting for the 2030 Commitment. A simple illustration is the all-electric ADU showcased in this program. Earn 1.5 LU|HSW and 1.5hr ZNCD MCE for attending live\, or 1.75hrs ZNCD MCE for watching on-demand here. 								\n				\n				\n				\n							\n			\n									Additional Resources\n							\n			\n									Additional Resources\n					PDF Presentation | Title 24 Interface to The 2030 Commitment – ZNCD ADUs and Residential Projects
URL:https://events.aiacalifornia.org/event/climate-action-webinar-title-24-interface-to-the-2030-commitment-zero-net-carbon-designed-adus/
CATEGORIES:Climate Action
ATTACH;FMTTYPE=:
END:VEVENT
END:VCALENDAR