BEGIN:VCALENDAR
VERSION:2.0
PRODID:-//AIA California Calendar - ECPv6.15.11//NONSGML v1.0//EN
CALSCALE:GREGORIAN
METHOD:PUBLISH
X-WR-CALNAME:AIA California Calendar
X-ORIGINAL-URL:https://events.aiacalifornia.org
X-WR-CALDESC:Events for AIA California Calendar
REFRESH-INTERVAL;VALUE=DURATION:PT1H
X-Robots-Tag:noindex
X-PUBLISHED-TTL:PT1H
BEGIN:VTIMEZONE
TZID:UTC
BEGIN:STANDARD
TZOFFSETFROM:+0000
TZOFFSETTO:+0000
TZNAME:UTC
DTSTART:20210101T000000
END:STANDARD
END:VTIMEZONE
BEGIN:VEVENT
DTSTART;TZID=UTC:20221208T000000
DTEND;TZID=UTC:20221208T000000
DTSTAMP:20260424T150540
CREATED:20221108T022318Z
LAST-MODIFIED:20230719T233728Z
UID:69888-1670457600-1670457600@events.aiacalifornia.org
SUMMARY:Climate Action - Building to Campus Scale: Water Strategies in a Changing Climate
DESCRIPTION:  When: Thursday\, December 8th\, 12-1:30pm Units: 1.5 LU/HSW (pending approval) Moderator:Laura Dulski\, AIA\, LEED BD+C\, SEED AP | Principal\, DLR Group Speaker:Erin English\, PE\, LEED AP | Practice Leader\, Biohabitats How do we adapt our built environment’s water footprint for a changing climate? Decentralized strategies\, or those that can be implemented at the building\, campus or neighborhood scale\, will contribute to water resiliency alongside investments in upgrades to municipal scale infrastructure. Selecting appropriate decentralized water strategies depends on a myriad of conditions such as building typology and use\, regional regulatory climate\, and site and watershed considerations. This session will share best practices from the perspective of a ‘One Water’ paradigm which seeks to unify often disparate water systems such as stormwater\, wastewater\, and water reuse. 								\n				\n				\n				\n							\n					\n						\n				\n					\n		\n					\n		\n				\n						\n					\n			\n						\n				\n							\n			\n									Additional Resources\n							\n			\n									Additional Resources\n					Combined Presentation_ Building to Campus Scale: Water Strategies in a Changing Climate
URL:https://events.aiacalifornia.org/event/climate-action-building-to-campus-scale-water-strategies-in-a-changing-climate/
ATTACH;FMTTYPE=:
END:VEVENT
END:VCALENDAR