BEGIN:VCALENDAR
VERSION:2.0
PRODID:-//AIA California Calendar - ECPv6.15.11//NONSGML v1.0//EN
CALSCALE:GREGORIAN
METHOD:PUBLISH
X-WR-CALNAME:AIA California Calendar
X-ORIGINAL-URL:https://events.aiacalifornia.org
X-WR-CALDESC:Events for AIA California Calendar
REFRESH-INTERVAL;VALUE=DURATION:PT1H
X-Robots-Tag:noindex
X-PUBLISHED-TTL:PT1H
BEGIN:VTIMEZONE
TZID:America/Los_Angeles
BEGIN:DAYLIGHT
TZOFFSETFROM:-0800
TZOFFSETTO:-0700
TZNAME:PDT
DTSTART:20250309T100000
END:DAYLIGHT
BEGIN:STANDARD
TZOFFSETFROM:-0700
TZOFFSETTO:-0800
TZNAME:PST
DTSTART:20251102T090000
END:STANDARD
BEGIN:DAYLIGHT
TZOFFSETFROM:-0800
TZOFFSETTO:-0700
TZNAME:PDT
DTSTART:20260308T100000
END:DAYLIGHT
BEGIN:STANDARD
TZOFFSETFROM:-0700
TZOFFSETTO:-0800
TZNAME:PST
DTSTART:20261101T090000
END:STANDARD
BEGIN:DAYLIGHT
TZOFFSETFROM:-0800
TZOFFSETTO:-0700
TZNAME:PDT
DTSTART:20270314T100000
END:DAYLIGHT
BEGIN:STANDARD
TZOFFSETFROM:-0700
TZOFFSETTO:-0800
TZNAME:PST
DTSTART:20271107T090000
END:STANDARD
END:VTIMEZONE
BEGIN:VEVENT
DTSTART;TZID=America/Los_Angeles:20260323T100000
DTEND;TZID=America/Los_Angeles:20260323T110000
DTSTAMP:20260422T013039
CREATED:20260304T204838Z
LAST-MODIFIED:20260304T204838Z
UID:149060-1774260000-1774263600@events.aiacalifornia.org
SUMMARY:Candid Conversations about: Women in Design
DESCRIPTION:According to the 2020 Census\, 50.9% of the U.S. population was female\, while the remaining 49.1% was male. This means that the female population made up 168.8 million people\, while the male population made up 162.7 million. The 2020 Census also showed that the U.S. population reached 331\,449\,281 people. \nThe Bureau of Labor Statistics (BLS) reports that in 2019\, 25% of the 208\,000 people working as “Architects\, except naval” in the United States were women. Importantly\, the BLS does not distinguish between licensed and non-licensed practitioners (“apprentices and trainees”). By comparison\, NCARB reports that there were 113\,554 registered architects in the United States in 2017\, so the BLS figure of 208\,000 counts many aspiring architects who are pursuing licensure\, as well as those who are not working towards a license. \nJoin us for a conversation exploring the experiences\, challenges\, and perspectives of women in architecture.
URL:https://events.aiacalifornia.org/event/candid-conversations-about-women-in-design/
LOCATION:Virtual
CATEGORIES:Architecture Belonging Connection
ATTACH;FMTTYPE=image/png:https://events.aiacalifornia.org/wp-content/uploads/2026/03/ABC-Women-in-Design-1200x800-1.png
ORGANIZER;CN="Sarah Vasquez":MAILTO:svasquez@aiacalifornia.org
END:VEVENT
END:VCALENDAR