BEGIN:VCALENDAR
VERSION:2.0
PRODID:-//AIA California Calendar - ECPv6.15.11//NONSGML v1.0//EN
CALSCALE:GREGORIAN
METHOD:PUBLISH
X-WR-CALNAME:AIA California Calendar
X-ORIGINAL-URL:https://events.aiacalifornia.org
X-WR-CALDESC:Events for AIA California Calendar
REFRESH-INTERVAL;VALUE=DURATION:PT1H
X-Robots-Tag:noindex
X-PUBLISHED-TTL:PT1H
BEGIN:VTIMEZONE
TZID:America/Los_Angeles
BEGIN:DAYLIGHT
TZOFFSETFROM:-0800
TZOFFSETTO:-0700
TZNAME:PDT
DTSTART:20240310T100000
END:DAYLIGHT
BEGIN:STANDARD
TZOFFSETFROM:-0700
TZOFFSETTO:-0800
TZNAME:PST
DTSTART:20241103T090000
END:STANDARD
BEGIN:DAYLIGHT
TZOFFSETFROM:-0800
TZOFFSETTO:-0700
TZNAME:PDT
DTSTART:20250309T100000
END:DAYLIGHT
BEGIN:STANDARD
TZOFFSETFROM:-0700
TZOFFSETTO:-0800
TZNAME:PST
DTSTART:20251102T090000
END:STANDARD
BEGIN:DAYLIGHT
TZOFFSETFROM:-0800
TZOFFSETTO:-0700
TZNAME:PDT
DTSTART:20260308T100000
END:DAYLIGHT
BEGIN:STANDARD
TZOFFSETFROM:-0700
TZOFFSETTO:-0800
TZNAME:PST
DTSTART:20261101T090000
END:STANDARD
END:VTIMEZONE
BEGIN:VEVENT
DTSTART;TZID=America/Los_Angeles:20251003T100000
DTEND;TZID=America/Los_Angeles:20251003T110000
DTSTAMP:20260424T064910
CREATED:20250826T235950Z
LAST-MODIFIED:20250925T150904Z
UID:141913-1759485600-1759489200@events.aiacalifornia.org
SUMMARY:Architecture\, Belonging\, and Connection (ABC) – Candid Conversations about: Empowering Change - Navigating Federal Shifts and Immigration within Our Profession
DESCRIPTION:The architecture profession is navigating a complex and ever-shifting landscape\, where immigration policies\, staff retention\, and hiring challenges have become pressing concerns. We invite architects and design professionals to come together for this guided conversation focused on the impact of the current political climate on our workforce. We’ll highlight critical topics\, including the latest federal policy changes\, and answer questions about supporting teams and ensuring every member’s voice is heard as teams shrink and barriers to work grow. This session is an opportunity to share best practices\, raise questions\, and engage in meaningful dialogue about how we can foster a more inclusive and resilient workforce in times of adversity. Join us as we connect\, reflect\, and strategize about how to navigate these challenges. \nModerator: Daniel Perez\, AIA | Principal | Studio Pérez
URL:https://events.aiacalifornia.org/event/candid-conversations-about-empowering-change-navigating-federal-shifts-and-immigration-within-our-profession/
LOCATION:Virtual
CATEGORIES:Architecture Belonging Connection
ATTACH;FMTTYPE=image/png:https://events.aiacalifornia.org/wp-content/uploads/2025/08/ABC-Empowering-Change-Navigating-1200x800-1.png
ORGANIZER;CN="Rebekah Aceves":MAILTO:raceves@aiacalifornia.org
END:VEVENT
END:VCALENDAR