BEGIN:VCALENDAR
VERSION:2.0
PRODID:-//AIA California Calendar - ECPv6.15.11//NONSGML v1.0//EN
CALSCALE:GREGORIAN
METHOD:PUBLISH
X-WR-CALNAME:AIA California Calendar
X-ORIGINAL-URL:https://events.aiacalifornia.org
X-WR-CALDESC:Events for AIA California Calendar
REFRESH-INTERVAL;VALUE=DURATION:PT1H
X-Robots-Tag:noindex
X-PUBLISHED-TTL:PT1H
BEGIN:VTIMEZONE
TZID:America/Los_Angeles
BEGIN:DAYLIGHT
TZOFFSETFROM:-0800
TZOFFSETTO:-0700
TZNAME:PDT
DTSTART:20230312T100000
END:DAYLIGHT
BEGIN:STANDARD
TZOFFSETFROM:-0700
TZOFFSETTO:-0800
TZNAME:PST
DTSTART:20231105T090000
END:STANDARD
BEGIN:DAYLIGHT
TZOFFSETFROM:-0800
TZOFFSETTO:-0700
TZNAME:PDT
DTSTART:20240310T100000
END:DAYLIGHT
BEGIN:STANDARD
TZOFFSETFROM:-0700
TZOFFSETTO:-0800
TZNAME:PST
DTSTART:20241103T090000
END:STANDARD
BEGIN:DAYLIGHT
TZOFFSETFROM:-0800
TZOFFSETTO:-0700
TZNAME:PDT
DTSTART:20250309T100000
END:DAYLIGHT
BEGIN:STANDARD
TZOFFSETFROM:-0700
TZOFFSETTO:-0800
TZNAME:PST
DTSTART:20251102T090000
END:STANDARD
END:VTIMEZONE
BEGIN:VEVENT
DTSTART;TZID=America/Los_Angeles:20240814T120000
DTEND;TZID=America/Los_Angeles:20240814T130000
DTSTAMP:20260424T051013
CREATED:20240730T174603Z
LAST-MODIFIED:20241001T171139Z
UID:107021-1723636800-1723640400@events.aiacalifornia.org
SUMMARY:California State of the Market
DESCRIPTION:2024: A Year of Stabilization and Reset. \nCalifornia”™s economic performance has lagged national performance for the last few years ”“ technology sector layoffs\, regional banking crises\, and the exodus of a significant portion of the workforce to other states have taken its toll. However\, home sales are tentatively rebounding and the population grew in 2023\, halting three years of decline. As California continues its path to economic recovery\, this session takes a closer look at trends in construction and development\, real estate supply and demand signals\, emerging trends\, and demographic shifts amidst volatility. We will also discuss what the future holds for different market sectors across the state. \nSpeaker: Supina Mapon | Healthcare Strategy | Design Integration\, DPR Construction \nSupina Mapon | Healthcare Strategy | Design Integration\, DPR Construction\n  \n  \n  \n  \n  \n  \n 
URL:https://events.aiacalifornia.org/event/california-state-of-the-market/
LOCATION:Virtual
CATEGORIES:Continuing Education,Practice
ATTACH;FMTTYPE=image/jpeg:https://events.aiacalifornia.org/wp-content/uploads/2024/07/Practice-Webinar-California-State-of-the-Market-1200x800-1.jpg
ORGANIZER;CN="Rebekah Aceves":MAILTO:raceves@aiacalifornia.org
END:VEVENT
END:VCALENDAR