BEGIN:VCALENDAR
VERSION:2.0
PRODID:-//AIA California Calendar - ECPv6.15.11//NONSGML v1.0//EN
CALSCALE:GREGORIAN
METHOD:PUBLISH
X-WR-CALNAME:AIA California Calendar
X-ORIGINAL-URL:https://events.aiacalifornia.org
X-WR-CALDESC:Events for AIA California Calendar
REFRESH-INTERVAL;VALUE=DURATION:PT1H
X-Robots-Tag:noindex
X-PUBLISHED-TTL:PT1H
BEGIN:VTIMEZONE
TZID:UTC
BEGIN:STANDARD
TZOFFSETFROM:+0000
TZOFFSETTO:+0000
TZNAME:UTC
DTSTART:20220101T000000
END:STANDARD
END:VTIMEZONE
BEGIN:VEVENT
DTSTART;TZID=UTC:20230525T120000
DTEND;TZID=UTC:20230525T130000
DTSTAMP:20260424T084138
CREATED:20230720T030317Z
LAST-MODIFIED:20231221T043216Z
UID:86154-1685016000-1685019600@events.aiacalifornia.org
SUMMARY:Biophilia in the Workplace
DESCRIPTION:Speakers: Simon Turner | Founder\, Building Cognition LLC Orlane Panet | Co-founder\, Micro Habitat Vicki Worden | President & CEO\, Green Building Initiative Science shows that people benefit from daylight\, views\, and natural ventilation. Today’s technologies allow architects to incorporate biophilic design into building design as part of their net zero carbon design goals and project requirements. As part of this presentation\, a set of case studies will be used to illustrate how architects can design indoor-outdoor elements into their projects\, in both new construction and adaptive reuse of existing buildings. These examples will show how integrating biophilic components can improve the quality of life for inhabitants\, increase connection to nature\, reduce operational energy demands and lower embodied carbon levels. 								\n				\n				\n				\n							\n					\n						\n				\n					\n		\n					\n		\n				\n						\n					\n			\n						\n				\n							\n			\n									Additional Resources\n							\n			\n									Additional Resources\n					Full Presentation_Biophilia in the Workplace
URL:https://events.aiacalifornia.org/event/biophilia-in-the-workplace/
LOCATION:Virtual
CATEGORIES:Climate Action
ATTACH;FMTTYPE=image/jpeg:https://events.aiacalifornia.org/wp-content/uploads/2023/07/2023-Climate-Action-Webinar-Biophilia-in-the-Workplace-1200x800-1.jpg
ORGANIZER;CN="Sarah Vasquez":MAILTO:svasquez@aiacalifornia.org
END:VEVENT
END:VCALENDAR