BEGIN:VCALENDAR
VERSION:2.0
PRODID:-//AIA California Calendar - ECPv6.15.11//NONSGML v1.0//EN
CALSCALE:GREGORIAN
METHOD:PUBLISH
X-WR-CALNAME:AIA California Calendar
X-ORIGINAL-URL:https://events.aiacalifornia.org
X-WR-CALDESC:Events for AIA California Calendar
REFRESH-INTERVAL;VALUE=DURATION:PT1H
X-Robots-Tag:noindex
X-PUBLISHED-TTL:PT1H
BEGIN:VTIMEZONE
TZID:America/Los_Angeles
BEGIN:DAYLIGHT
TZOFFSETFROM:-0800
TZOFFSETTO:-0700
TZNAME:PDT
DTSTART:20240310T100000
END:DAYLIGHT
BEGIN:STANDARD
TZOFFSETFROM:-0700
TZOFFSETTO:-0800
TZNAME:PST
DTSTART:20241103T090000
END:STANDARD
BEGIN:DAYLIGHT
TZOFFSETFROM:-0800
TZOFFSETTO:-0700
TZNAME:PDT
DTSTART:20250309T100000
END:DAYLIGHT
BEGIN:STANDARD
TZOFFSETFROM:-0700
TZOFFSETTO:-0800
TZNAME:PST
DTSTART:20251102T090000
END:STANDARD
BEGIN:DAYLIGHT
TZOFFSETFROM:-0800
TZOFFSETTO:-0700
TZNAME:PDT
DTSTART:20260308T100000
END:DAYLIGHT
BEGIN:STANDARD
TZOFFSETFROM:-0700
TZOFFSETTO:-0800
TZNAME:PST
DTSTART:20261101T090000
END:STANDARD
END:VTIMEZONE
BEGIN:VEVENT
DTSTART;TZID=America/Los_Angeles:20251103T180000
DTEND;TZID=America/Los_Angeles:20251103T190000
DTSTAMP:20260424T050725
CREATED:20250211T224640Z
LAST-MODIFIED:20250211T224640Z
UID:122474-1762192800-1762196400@events.aiacalifornia.org
SUMMARY:ARE/CSE Statewide Study Hub: PPD & PDD
DESCRIPTION:Study Hub is AIA California”™s pathway for emerging professionals to study and pursue licensure. These statewide ARE study sessions and virtual study groups serve as a hub for education\, connection\, and community. This portal does not replace other study materials or resources\, rather it supplements them\, serving as a network and allowing for collaboration between EPs and AIA professionals across California. \nThis year\, we’re streamlining your study experience by grouping commonly paired exams together. \nProject Planning & Design (PPD)Â focuses onÂ the preliminary design of sites and buildings. You should be able toÂ demonstrate an understanding of and abilities in design concepts\, sustainability/environmental design\, universal design\, and other forms of governing codes and regulations. \nProject Development & Documentation (PDD)Â focuses on the integration and documentation of building systems\, material selection\, and material assemblies into a project. You should be able to demonstrate an understanding of and abilities in integration of civil\, structural\, mechanical\, electrical\, plumbing\, and specialty systems into overall project design and documentation. \nHost: TBA \nInterested in joining our hub where you can ask questions\, connect with other members and access resources? Click here \nPlease make sure you registered for the correct session by using the dropdown in the zoom registration page to select the date you wish to register for. By default it will show the immediate upcoming session first.Â 
URL:https://events.aiacalifornia.org/event/are-cse-statewide-study-hub-ppd-pdd-7/
LOCATION:Virtual
CATEGORIES:Emerging,Study Hub
ATTACH;FMTTYPE=image/png:https://events.aiacalifornia.org/wp-content/uploads/2025/02/PPD-PDD.png
ORGANIZER;CN="Ashley Taylor":MAILTO:ataylor@aiacalifornia.org
END:VEVENT
END:VCALENDAR