BEGIN:VCALENDAR
VERSION:2.0
PRODID:-//AIA California Calendar - ECPv6.15.11//NONSGML v1.0//EN
CALSCALE:GREGORIAN
METHOD:PUBLISH
X-WR-CALNAME:AIA California Calendar
X-ORIGINAL-URL:https://events.aiacalifornia.org
X-WR-CALDESC:Events for AIA California Calendar
REFRESH-INTERVAL;VALUE=DURATION:PT1H
X-Robots-Tag:noindex
X-PUBLISHED-TTL:PT1H
BEGIN:VTIMEZONE
TZID:UTC
BEGIN:STANDARD
TZOFFSETFROM:+0000
TZOFFSETTO:+0000
TZNAME:UTC
DTSTART:20220101T000000
END:STANDARD
END:VTIMEZONE
BEGIN:VEVENT
DTSTART;TZID=UTC:20230427T120000
DTEND;TZID=UTC:20230427T130000
DTSTAMP:20260424T101917
CREATED:20230405T061337Z
LAST-MODIFIED:20230809T004931Z
UID:86949-1682596800-1682600400@events.aiacalifornia.org
SUMMARY:Architecture\, Belonging\, Connection (ABC): Candid Conversations about the Countdown to 2030
DESCRIPTION:Co-Moderator: Seth Dunn\, AIA\, LFA\, LEED AP BD+C | Siegel & Strain Architects\nCo-Moderator: Gwen Fuertes\, AIA| Associate| LMS Architects \nBecause buildings account for nearly 40% of greenhouse gas emissions today\, the DDx lets AEC professionals easily benchmark their projects against industry averages and track performance on their journey to a carbon neutral future. \nIs the reporting process going well? Are there areas to improve? What are some best practices that can help you\, your firm\, and your clients? \nJoin us during the lunch hour to help answer some of these questions and more. We”™ll have an open and honest conversation\, in an encouraging and safe space amongst peers\, about how we can work together to commit to net zero emissions by 2030. \nVideo coming soon.
URL:https://events.aiacalifornia.org/event/architecture-belonging-connection-abc-candid-conversations-about-the-countdown-to-2030/
LOCATION:Virtual
CATEGORIES:Architecture Belonging Connection
ATTACH;FMTTYPE=image/png:https://events.aiacalifornia.org/wp-content/uploads/2023/04/ABC-cOUNTdown-to-2030-1200x800-1.png
ORGANIZER;CN="Rebekah Aceves":MAILTO:raceves@aiacalifornia.org
END:VEVENT
END:VCALENDAR