BEGIN:VCALENDAR
VERSION:2.0
PRODID:-//AIA California Calendar - ECPv6.15.11//NONSGML v1.0//EN
CALSCALE:GREGORIAN
METHOD:PUBLISH
X-WR-CALNAME:AIA California Calendar
X-ORIGINAL-URL:https://events.aiacalifornia.org
X-WR-CALDESC:Events for AIA California Calendar
REFRESH-INTERVAL;VALUE=DURATION:PT1H
X-Robots-Tag:noindex
X-PUBLISHED-TTL:PT1H
BEGIN:VTIMEZONE
TZID:UTC
BEGIN:STANDARD
TZOFFSETFROM:+0000
TZOFFSETTO:+0000
TZNAME:UTC
DTSTART:20220101T000000
END:STANDARD
END:VTIMEZONE
BEGIN:VEVENT
DTSTART;TZID=UTC:20230522T120000
DTEND;TZID=UTC:20230522T130000
DTSTAMP:20260424T101728
CREATED:20230523T005958Z
LAST-MODIFIED:20230523T005958Z
UID:77102-1684756800-1684760400@events.aiacalifornia.org
SUMMARY:Architecture\, Belonging\, Connection (ABC): Candid Conversations about Mentoring
DESCRIPTION:Date / Time: \nSpeakers: \nCo-Moderator: Annie Chu\, FAIA\, NCIDQ\, WELL AP | Founding Principal | Chu”“Gooding \nCo-Moderator: Michael A. Enomoto\, FAIA | Managing Partner | Gruen Associates \nCo-Moderator: Nathan Dea | Design Coordinator II | LPA Design Studios \nDescription: \nConnecting professionals from different backgrounds\, of different generations\, and from different experience levels can help advance the profession of architecture. How can design professionals be supported in their leadership development? Career resources? Strong peer networks? Join us during the lunch hour to help answer some of these questions and more. We”™ll have an open and honest conversation\, in an encouraging and safe space amongst peers\, about how we can increase engagement\, build a greater sense of belonging\, and discuss how we can transform the profession now and continue to do so for future generations. \n\n\n\n\n\nRegister Here
URL:https://events.aiacalifornia.org/event/architecture-belonging-connection-abc-candid-conversations-about-mentoring/
LOCATION:Virtual
CATEGORIES:Architecture Belonging Connection
ATTACH;FMTTYPE=image/png:https://events.aiacalifornia.org/wp-content/uploads/2023/05/ABC-MENTORING-1200x800-1.png
ORGANIZER;CN="Rebekah Aceves":MAILTO:raceves@aiacalifornia.org
END:VEVENT
END:VCALENDAR