BEGIN:VCALENDAR
VERSION:2.0
PRODID:-//AIA California Calendar - ECPv6.15.11//NONSGML v1.0//EN
CALSCALE:GREGORIAN
METHOD:PUBLISH
X-WR-CALNAME:AIA California Calendar
X-ORIGINAL-URL:https://events.aiacalifornia.org
X-WR-CALDESC:Events for AIA California Calendar
REFRESH-INTERVAL;VALUE=DURATION:PT1H
X-Robots-Tag:noindex
X-PUBLISHED-TTL:PT1H
BEGIN:VTIMEZONE
TZID:UTC
BEGIN:STANDARD
TZOFFSETFROM:+0000
TZOFFSETTO:+0000
TZNAME:UTC
DTSTART:20230101T000000
END:STANDARD
END:VTIMEZONE
BEGIN:VEVENT
DTSTART;TZID=UTC:20240627T120000
DTEND;TZID=UTC:20240627T130000
DTSTAMP:20260424T064745
CREATED:20240522T075445Z
LAST-MODIFIED:20250716T165726Z
UID:104494-1719489600-1719493200@events.aiacalifornia.org
SUMMARY:Architecture\, Belonging\, Connection (ABC) - Candid Conversations about: Initiating Cultural Transformation
DESCRIPTION:The architectural profession stands at a pivotal moment. We must boldly confront the challenges facing our workforce to reimagine our professional culture with vigor and passion. Join us as we explore how to initiate change within a firm\, identify barriers standing in the way of cultural transformation\, and strategize what you can do right now to change the current trajectory. \n  \nModerators: \nCarina Mills\, AIA | Senior Talent Director\,Â Senior Associate | Studio One Eleven \nGinger Thompson\, AIA | Senior Associate | Dreyfus + Blackford architecture \n  \nVisit our #culturepledge page here: https://events.aiacalifornia.org/culturepledge/
URL:https://events.aiacalifornia.org/event/architecture-belonging-connection-abc-candid-conversations-about-initiating-cultural-transformation/
LOCATION:Virtual
CATEGORIES:Architecture Belonging Connection,EDI,Practice
ATTACH;FMTTYPE=image/png:https://events.aiacalifornia.org/wp-content/uploads/2024/05/ABC-Initiating-Cultural-Transformation-1200x800-1.png
ORGANIZER;CN="Rebekah Aceves":MAILTO:raceves@aiacalifornia.org
END:VEVENT
END:VCALENDAR