BEGIN:VCALENDAR
VERSION:2.0
PRODID:-//AIA California Calendar - ECPv6.15.11//NONSGML v1.0//EN
CALSCALE:GREGORIAN
METHOD:PUBLISH
X-WR-CALNAME:AIA California Calendar
X-ORIGINAL-URL:https://events.aiacalifornia.org
X-WR-CALDESC:Events for AIA California Calendar
REFRESH-INTERVAL;VALUE=DURATION:PT1H
X-Robots-Tag:noindex
X-PUBLISHED-TTL:PT1H
BEGIN:VTIMEZONE
TZID:America/Los_Angeles
BEGIN:DAYLIGHT
TZOFFSETFROM:-0800
TZOFFSETTO:-0700
TZNAME:PDT
DTSTART:20230312T100000
END:DAYLIGHT
BEGIN:STANDARD
TZOFFSETFROM:-0700
TZOFFSETTO:-0800
TZNAME:PST
DTSTART:20231105T090000
END:STANDARD
BEGIN:DAYLIGHT
TZOFFSETFROM:-0800
TZOFFSETTO:-0700
TZNAME:PDT
DTSTART:20240310T100000
END:DAYLIGHT
BEGIN:STANDARD
TZOFFSETFROM:-0700
TZOFFSETTO:-0800
TZNAME:PST
DTSTART:20241103T090000
END:STANDARD
BEGIN:DAYLIGHT
TZOFFSETFROM:-0800
TZOFFSETTO:-0700
TZNAME:PDT
DTSTART:20250309T100000
END:DAYLIGHT
BEGIN:STANDARD
TZOFFSETFROM:-0700
TZOFFSETTO:-0800
TZNAME:PST
DTSTART:20251102T090000
END:STANDARD
END:VTIMEZONE
BEGIN:VEVENT
DTSTART;TZID=America/Los_Angeles:20240925T113000
DTEND;TZID=America/Los_Angeles:20240925T123000
DTSTAMP:20260424T064430
CREATED:20240917T223314Z
LAST-MODIFIED:20241022T213431Z
UID:111256-1727263800-1727267400@events.aiacalifornia.org
SUMMARY:An EDI Guide for Architects
DESCRIPTION:Calling all architects who want to foster change within their firms! \nJustÂ® is a program that focuses on employee experience\, health\, well-being\, and meaningful community connections. It uplifts the understanding that it is people who make up businesses and communities and that people are the core of creating a Living Future. \nTune in for an overview of “The Social Justice Label”\, join the conversation on how to adopt JustÂ® at your firm\, and learn how it can help better define EDI initiatives in your office. \nSpeakers:  \nJessica Jobe Sea\, AIA | Associate | Noll & Tam \nWendy Rogers\, FAIA | CEO\, Chief Talent Officer | LPA Design Studios \nAnne Torney\, AIA | Partner | Mithun \nModerator: \nGriso Barrios | Senior Manager | Just
URL:https://events.aiacalifornia.org/event/an-edi-guide-for-architects/
LOCATION:Virtual
CATEGORIES:Continuing Education,EDI,Practice
ATTACH;FMTTYPE=image/jpeg:https://events.aiacalifornia.org/wp-content/uploads/2024/09/An-EDI-Guide-for-Architects-1200x800-christina-wocintechchat-com-faEfWCdOKIg-unsplash-2.jpg
ORGANIZER;CN="Rebekah Aceves":MAILTO:raceves@aiacalifornia.org
END:VEVENT
END:VCALENDAR