BEGIN:VCALENDAR
VERSION:2.0
PRODID:-//AIA California Calendar - ECPv6.15.11//NONSGML v1.0//EN
CALSCALE:GREGORIAN
METHOD:PUBLISH
X-WR-CALNAME:AIA California Calendar
X-ORIGINAL-URL:https://events.aiacalifornia.org
X-WR-CALDESC:Events for AIA California Calendar
REFRESH-INTERVAL;VALUE=DURATION:PT1H
X-Robots-Tag:noindex
X-PUBLISHED-TTL:PT1H
BEGIN:VTIMEZONE
TZID:America/Los_Angeles
BEGIN:DAYLIGHT
TZOFFSETFROM:-0800
TZOFFSETTO:-0700
TZNAME:PDT
DTSTART:20240310T100000
END:DAYLIGHT
BEGIN:STANDARD
TZOFFSETFROM:-0700
TZOFFSETTO:-0800
TZNAME:PST
DTSTART:20241103T090000
END:STANDARD
BEGIN:DAYLIGHT
TZOFFSETFROM:-0800
TZOFFSETTO:-0700
TZNAME:PDT
DTSTART:20250309T100000
END:DAYLIGHT
BEGIN:STANDARD
TZOFFSETFROM:-0700
TZOFFSETTO:-0800
TZNAME:PST
DTSTART:20251102T090000
END:STANDARD
BEGIN:DAYLIGHT
TZOFFSETFROM:-0800
TZOFFSETTO:-0700
TZNAME:PDT
DTSTART:20260308T100000
END:DAYLIGHT
BEGIN:STANDARD
TZOFFSETFROM:-0700
TZOFFSETTO:-0800
TZNAME:PST
DTSTART:20261101T090000
END:STANDARD
END:VTIMEZONE
BEGIN:VEVENT
DTSTART;TZID=America/Los_Angeles:20251017T080000
DTEND;TZID=America/Los_Angeles:20251017T120000
DTSTAMP:20260424T051129
CREATED:20251008T164055Z
LAST-MODIFIED:20251008T164055Z
UID:144124-1760688000-1760702400@events.aiacalifornia.org
SUMMARY:American Institute of Architects Los Angeles - Immigration Summit
DESCRIPTION:Immigration directly shapes the future of Los Angeles and our industry. Immigrants make up one-third of Angelenos\, drive innovation\, own nearly 11% of California’s small businesses\, and sustain entire sectors like construction—which would see a 16% GDP contraction without them. In architecture and design\, their perspectives fuel creativity and ensure projects reflect cultural realities. \nThe summit will feature two essential panels: \n·       The Value of International Students in Higher Education – highlighting their role in innovation and global competitiveness. \n·       Immigration\, Skilled Labor\, and Creative Outcomes in AEC – showing how diverse perspectives strengthen resilience and enrich creative outcomes. \nThis isn’t a political conversation—it’s an economic\, creative\, and civic one. We believe it’s vital for our community to come together around it.
URL:https://events.aiacalifornia.org/event/american-institute-of-architects-los-angeles-immigration-summit/
LOCATION:Center for Communities\, 4450 West Adams\, Los Angeles\, CA\, 90016\, United States
CATEGORIES:Practice
ATTACH;FMTTYPE=image/png:https://events.aiacalifornia.org/wp-content/uploads/2025/10/Immigration-Conference-AIALA-Graphic-1200x800-1.png
END:VEVENT
END:VCALENDAR