BEGIN:VCALENDAR
VERSION:2.0
PRODID:-//AIA California Calendar - ECPv6.15.11//NONSGML v1.0//EN
CALSCALE:GREGORIAN
METHOD:PUBLISH
X-WR-CALNAME:AIA California Calendar
X-ORIGINAL-URL:https://events.aiacalifornia.org
X-WR-CALDESC:Events for AIA California Calendar
REFRESH-INTERVAL;VALUE=DURATION:PT1H
X-Robots-Tag:noindex
X-PUBLISHED-TTL:PT1H
BEGIN:VTIMEZONE
TZID:UTC
BEGIN:STANDARD
TZOFFSETFROM:+0000
TZOFFSETTO:+0000
TZNAME:UTC
DTSTART:20210101T000000
END:STANDARD
END:VTIMEZONE
BEGIN:VEVENT
DTSTART;TZID=UTC:20220831T000000
DTEND;TZID=UTC:20220831T000000
DTSTAMP:20260424T131552
CREATED:20220809T042054Z
LAST-MODIFIED:20231122T031557Z
UID:66071-1661904000-1661904000@events.aiacalifornia.org
SUMMARY:Adaptive Reuse\, Efficient by Default: Projects with Embedded Energy Efficiency
DESCRIPTION:Did you miss this valuable Webinar? Scroll down to view the video.   Speakers: Paul A. Mathew\, Ph.D. | Lawrence Berkeley National LaboratoryMegan Dougherty\, AIA\, LEED AP BD+C\, WELL AP\, Fitwel Amb. | Perkins EastmanStephanie Kingsnorth\, AIA\, NCARB\, LEED AP | Pfeiffer PartnersHeidi Lubin | e6 Development Day | Date | Time: Wednesday\, August 31\, 2022 | 12:00 PM – 1:00 PM AIA LUs: 1 LU / HSW Description: There’s a wide array of commercially available\, proven technologies to deliver deeper energy savings cost-effectively. The energy efficient integrated systems approach often requires significant expertise to ensure that they are designed\, integrated\, commissioned\, and operated effectively. Furthermore\, the customary practice of building energy retrofits is to treat such projects as standalone engineering projects\, which is often too disruptive to the building occupants and activities because they are not aligned with the real estate life cycle. A scalable approach to deploying energy efficient integrated systems in offices and schools by opportunistically incorporating them within adaptive reuse projects ranging from tenant fit outs to whole building renovations is more productive. We describe a suite of Integrated Systems Packages (ISPs) that are ‘pre-engineered’ to minimize expertise and effort required for implementation. Each ISP is tailored to a particular project scope\, such as tenant fit out\, equipment replacement\, whole building renovation\, etc. Each ISP is also pre-validated with respect to functionality and energy performance to reduce real and perceived risk. We review ISP toolkits which include template specifications and other resources. Learn More:What You Can Do Now: Incorporate Energy Efficiency into Tenant Improvement and Renovation Projects with Integrated Systems Packages Earn 1 LU|HSW and 1hr of ZNCD MCE for attending live. 								\n				\n				\n				\n							\n					\n						\n				\n					\n		\n					\n		\n				\n						\n					\n			\n						\n				\n							\n			\n									Additional Resources\n							\n			\n									Additional Resources\n					PDF Presentation | Adaptive Reuse\, Efficient by Default: Projects with Embedded Energy Efficiency
URL:https://events.aiacalifornia.org/event/adaptive-reuse-efficient-by-default-projects-with-embedded-energy-efficiency/
CATEGORIES:Climate Action
ATTACH;FMTTYPE=:
END:VEVENT
END:VCALENDAR