BEGIN:VCALENDAR
VERSION:2.0
PRODID:-//AIA California Calendar - ECPv6.15.11//NONSGML v1.0//EN
CALSCALE:GREGORIAN
METHOD:PUBLISH
X-WR-CALNAME:AIA California Calendar
X-ORIGINAL-URL:https://events.aiacalifornia.org
X-WR-CALDESC:Events for AIA California Calendar
REFRESH-INTERVAL;VALUE=DURATION:PT1H
X-Robots-Tag:noindex
X-PUBLISHED-TTL:PT1H
BEGIN:VTIMEZONE
TZID:UTC
BEGIN:STANDARD
TZOFFSETFROM:+0000
TZOFFSETTO:+0000
TZNAME:UTC
DTSTART:20220101T000000
END:STANDARD
END:VTIMEZONE
BEGIN:VEVENT
DTSTART;TZID=UTC:20231011T090000
DTEND;TZID=UTC:20231011T170000
DTSTAMP:20260424T064729
CREATED:20230829T224738Z
LAST-MODIFIED:20250528T163102Z
UID:91738-1697014800-1697043600@events.aiacalifornia.org
SUMMARY:2023 Healthcare Facilities Forum
DESCRIPTION:Each year the Healthcare Facilities Forum brings you a glimpse into the future of healthcare facilities.Â  What trends\, technologies and numerous other factors will impact the design and delivery of hospitals and outpatient facilities? \nThis year we are seeing technology and data impact healthcare design in greater ways than ever before. Don’t miss out on this event that will give you a future view of the profession and be able to think and assist your clients from aÂ strategic lens.Â  We’re excited to announce our keynote speaker this year – Dr. Ray Pentecost. \nBuilding upon last year’s success with multiple locations\, we are pleased to be offering two livestreaming locations (San Francisco and Fresno) in addition to our host location in Los Angeles.Â  Enjoy the collaboration and connection at one of these in person locations along with breakfast\, lunch and a cocktail hour.Â  Or\, if travel funds or time are tight\, join us through ourÂ virtual pass to watch from your desk or home office. \nJoin us to hear from healthcare system leaders and other experts as we explore these topics”¦and more\, on October 11\, 2023! \nMain Event Location:\nSteelcase WorkLife Center Showroom\n1150 S. Olive Street\nLos Angeles\, CA 90015 \nLivestream Locations: San Francisco | Fresno\nDPR Construction\n945 Front Street\nSan Francisco\, CA 94111 \nTangram\n677 W Palmdon Dr\nFresno\, CA 93704 \nAll locations include a continental breakfast\, lunch and a post event networkingÂ reception. \nVirtual passes also available.
URL:https://events.aiacalifornia.org/event/2023-healthcare-facilities-forum/
LOCATION:Steelcase WorkLife Center Showroom\, 1150 S. Olive Street\, Los Angeles\, 90015\, United States
CATEGORIES:Conference,Healthcare
ATTACH;FMTTYPE=image/png:https://events.aiacalifornia.org/wp-content/uploads/2023/08/HFF-lrg-banner-1920x800-2.png
ORGANIZER;CN="Amy Orr":MAILTO:conferences@aiacalifornia.org
END:VEVENT
END:VCALENDAR