BEGIN:VCALENDAR
VERSION:2.0
PRODID:-//AIA California Calendar - ECPv6.15.11//NONSGML v1.0//EN
CALSCALE:GREGORIAN
METHOD:PUBLISH
X-WR-CALNAME:AIA California Calendar
X-ORIGINAL-URL:https://events.aiacalifornia.org
X-WR-CALDESC:Events for AIA California Calendar
REFRESH-INTERVAL;VALUE=DURATION:PT1H
X-Robots-Tag:noindex
X-PUBLISHED-TTL:PT1H
BEGIN:VTIMEZONE
TZID:UTC
BEGIN:STANDARD
TZOFFSETFROM:+0000
TZOFFSETTO:+0000
TZNAME:UTC
DTSTART:20230101T000000
END:STANDARD
END:VTIMEZONE
BEGIN:VEVENT
DTSTART;TZID=UTC:20240514T120000
DTEND;TZID=UTC:20240514T130000
DTSTAMP:20260424T114302
CREATED:20240430T045504Z
LAST-MODIFIED:20240812T170453Z
UID:101346-1715688000-1715691600@events.aiacalifornia.org
SUMMARY:2022 Code Breaker Single-Family HERS Verified Quality Insulation Installation Webinar
DESCRIPTION:This course focuses on prescriptive quality insulation installation (QII) requirements in the 2022 Energy Code for new single-family buildings of any size and additions greater than 700 ftÂ². \nThis course helps designers and architects create projects that meet QII requirements and helps energy consultants clarify the minimum requirements and schedule of inspections the team needs to succeed when the Certificate of Compliance form (CF1R and LMCI) calls for QII. Contractors will learn how to coordinate with HERS raters and subcontractors on inspection dates and other QII requirements. Building departments will learn how to support QII projects at plan check and inspection to ensure the QII process goes smoothly. HERS raters will learn about communicating with the construction team on how to prepare a project to meet QII requirements during HERS inspections. \nSpeaker: Gina Rodda | Principal Owner | Gabel Energy \nGina Rodda
URL:https://events.aiacalifornia.org/event/2022-code-breaker-single-family-hers-verified-quality-insulation-installation-webinar/
LOCATION:Virtual
CATEGORIES:Climate Action,Community Partner Event
ATTACH;FMTTYPE=image/jpeg:https://events.aiacalifornia.org/wp-content/uploads/2024/04/2024-Climate-Action-Webinar-Single-family-HERS-1200x800-3.jpg
ORGANIZER;CN="Rebekah Aceves":MAILTO:raceves@aiacalifornia.org
END:VEVENT
END:VCALENDAR