BEGIN:VCALENDAR
VERSION:2.0
PRODID:-//AIA California Calendar - ECPv6.15.11//NONSGML v1.0//EN
CALSCALE:GREGORIAN
METHOD:PUBLISH
X-WR-CALNAME:AIA California Calendar
X-ORIGINAL-URL:https://events.aiacalifornia.org
X-WR-CALDESC:Events for AIA California Calendar
REFRESH-INTERVAL;VALUE=DURATION:PT1H
X-Robots-Tag:noindex
X-PUBLISHED-TTL:PT1H
BEGIN:VTIMEZONE
TZID:America/Los_Angeles
BEGIN:DAYLIGHT
TZOFFSETFROM:-0800
TZOFFSETTO:-0700
TZNAME:PDT
DTSTART:20230312T100000
END:DAYLIGHT
BEGIN:STANDARD
TZOFFSETFROM:-0700
TZOFFSETTO:-0800
TZNAME:PST
DTSTART:20231105T090000
END:STANDARD
BEGIN:DAYLIGHT
TZOFFSETFROM:-0800
TZOFFSETTO:-0700
TZNAME:PDT
DTSTART:20240310T100000
END:DAYLIGHT
BEGIN:STANDARD
TZOFFSETFROM:-0700
TZOFFSETTO:-0800
TZNAME:PST
DTSTART:20241103T090000
END:STANDARD
BEGIN:DAYLIGHT
TZOFFSETFROM:-0800
TZOFFSETTO:-0700
TZNAME:PDT
DTSTART:20250309T100000
END:DAYLIGHT
BEGIN:STANDARD
TZOFFSETFROM:-0700
TZOFFSETTO:-0800
TZNAME:PST
DTSTART:20251102T090000
END:STANDARD
END:VTIMEZONE
BEGIN:VEVENT
DTSTART;TZID=America/Los_Angeles:20240808T120000
DTEND;TZID=America/Los_Angeles:20240808T130000
DTSTAMP:20260424T064620
CREATED:20240730T190145Z
LAST-MODIFIED:20241022T214339Z
UID:107019-1723118400-1723122000@events.aiacalifornia.org
SUMMARY:2022 CA Energy Code Breaker: Outdoor Lighting
DESCRIPTION:California”™s 2022 Building Energy Efficiency Standards (Title 24\, Part 6 or the Energy Code) requirements for outdoor lighting wattage allowances and controls depends not only on building type\, but also scope of work (such as New Construction versus Alterations). In this one-hour presentation\, we will review outdoor lighting requirements for single-family\, multifamily\, nonresidential\, hotel and motel building types of all applicable scopes of work and what compliance documentation is required for each project type. \nSpeaker: Gina Griffiths Rodda\, CEA\, LEED AP | Principal/Owner | Gabel Energy \nGina Griffiths Rodda\, CEA\, LEED AP
URL:https://events.aiacalifornia.org/event/2022-ca-energy-code-breaker-outdoor-lighting/
LOCATION:Virtual
CATEGORIES:Community Partner Event
ATTACH;FMTTYPE=image/jpeg:https://events.aiacalifornia.org/wp-content/uploads/2024/07/Community-Partner-Webinar-Outdoor-Lighting-1200x800-1.jpg
ORGANIZER;CN="Rebekah Aceves":MAILTO:raceves@aiacalifornia.org
END:VEVENT
END:VCALENDAR